BEGIN:VCALENDAR
VERSION:2.0
PRODID:-//a while away - ECPv6.15.13.1//NONSGML v1.0//EN
CALSCALE:GREGORIAN
METHOD:PUBLISH
X-WR-CALNAME:a while away
X-ORIGINAL-URL:https://awhileaway.de
X-WR-CALDESC:Events for a while away
REFRESH-INTERVAL;VALUE=DURATION:PT1H
X-Robots-Tag:noindex
X-PUBLISHED-TTL:PT1H
BEGIN:VTIMEZONE
TZID:Europe/Berlin
BEGIN:DAYLIGHT
TZOFFSETFROM:+0100
TZOFFSETTO:+0200
TZNAME:CEST
DTSTART:20200329T010000
END:DAYLIGHT
BEGIN:STANDARD
TZOFFSETFROM:+0200
TZOFFSETTO:+0100
TZNAME:CET
DTSTART:20201025T010000
END:STANDARD
BEGIN:DAYLIGHT
TZOFFSETFROM:+0100
TZOFFSETTO:+0200
TZNAME:CEST
DTSTART:20210328T010000
END:DAYLIGHT
BEGIN:STANDARD
TZOFFSETFROM:+0200
TZOFFSETTO:+0100
TZNAME:CET
DTSTART:20211031T010000
END:STANDARD
BEGIN:DAYLIGHT
TZOFFSETFROM:+0100
TZOFFSETTO:+0200
TZNAME:CEST
DTSTART:20220327T010000
END:DAYLIGHT
BEGIN:STANDARD
TZOFFSETFROM:+0200
TZOFFSETTO:+0100
TZNAME:CET
DTSTART:20221030T010000
END:STANDARD
END:VTIMEZONE
BEGIN:VEVENT
DTSTART;VALUE=DATE:20211008
DTEND;VALUE=DATE:20211011
DTSTAMP:20260423T021702
CREATED:20210129T163713Z
LAST-MODIFIED:20210204T202559Z
UID:915-1633651200-1633910399@awhileaway.de
SUMMARY:Die Nacht des Feuers
DESCRIPTION:Ein Ritual am Ãœbergang vom Jungen zum Mann. FÃ¼r Jungen ab 13 Jahren mit ihren VÃ¤tern\, GroÃŸvÃ¤tern\, Paten oder Mentoren\n\nWenn Jungen vom Kind zum jungen Mann heranwachsen und beginnen\, ihre eigenen Wege ins Leben zu gehen\, wird der Kontakt zum Vater oder einem vÃ¤terlichen Mentor oder Freund immer wichtiger. Die Jungen verlassen den geschÃ¼tzten Raum ihrer Kindheit\, der oft von weiblichen Bezugspersonen (MÃ¼ttern\, Lehrerinnen) gestaltet wird und orientieren sich stÃ¤rker an mÃ¤nnlichen Vorbildern. \n\nIn der Nacht des Feuers werden die Jungen symbolisch aus der Kindheit entlassen und in den Kreis der MÃ¤nner aufgenommen. FÃ¼r diesen LebensÃ¼bergang gibt es initiatorische Impulse\, die hier durch kraftvolle Rituale erfahrbar werden. \nDie Nacht des Feuers ist ein Erfahrungsraum\, in dem die Jungen und die erwachsenen MÃ¤nner auf nicht alltÃ¤gliche Weise miteinander ins GesprÃ¤ch kommen. Wir sitzen am Feuer\, trommeln\, besprechen Gemeinsames und Trennendes\, lÃ¶sen Aufgaben\, indem sich junge und erwachsene MÃ¤nner unterstÃ¼tzen und gegenseitige Erwartungen formulieren. Dabei erfahren wir\, wie wir auf AugenhÃ¶he miteinander umgehen und voneinander lernen kÃ¶nnen. So lernen die Jungen Grenzen und MÃ¶glichkeiten kennen und erproben ihre eigenen Wege â€“ gesegnet und bestÃ¤rkt\, auf die innere Stimme zu hÃ¶ren\, ihren inneren Feuer zu vertrauen und dieses weiterzugeben. \nDieser Kurs schÃ¶pft aus den spirituellen Erfahrungen unserer VorvÃ¤ter und zielt weniger auf das kognitive Verstehen\, sondern viel mehr auf das gemeinsame Erleben. Zum Schluss feiern alle gemeinsam am Feuer ein Fest. Ãœbernachtung im Seminarhaus oder wahlweise unter dem Sternenhimmel am Feuer.
URL:https://awhileaway.de/event/die-nacht-des-feuers/
CATEGORIES:Nacht des Feuers
END:VEVENT
BEGIN:VEVENT
DTSTART;VALUE=DATE:20210517
DTEND;VALUE=DATE:20210522
DTSTAMP:20260423T021702
CREATED:20210129T160408Z
LAST-MODIFIED:20210204T202609Z
UID:909-1621209600-1621641599@awhileaway.de
SUMMARY:WalkAway for Leaders
DESCRIPTION:Auszeit â€“ ein auÃŸergewÃ¶hnlicher Weg zum authentischen Leader\nâ€žAuthentisch fÃ¼hrenâ€œ bedeutet\, die Rolle des Vorgesetzten im Einklang mit der inneren Haltung und basierend auf dem eigenen Wertesystem auszufÃ¼llen. Statt eine Rolle zu spielen und mÃ¼hsam Erlerntes anzuwenden\, kann die FÃ¼hrungskraft mit mehr Leichtigkeit und Vertrauen auf die eigene Intuition agieren. Dies wirkt sehr motivierend und inspirierend fÃ¼r das gefÃ¼hrte Team und ist gerade deshalb so wirksam. Gleichzeitig ist es keine Methode\, die man einfach erlernen kann\, sondern Resultat eines persÃ¶nlichen Entwicklungswegs\, der die Bereitschaft zur Selbstreflexion\, Erkenntnis der eigenen Wertvorstellungen und (jahre-)langes Erproben deiner gegebenen MÃ¶glichkeiten und Grenzen erfordert. \nâ€žIch muss dafÃ¼r bereit sein\, aufzugeben\, was ich bin\, um zu dem zu werden\, was ich sein kann.â€œ\n&#8211; Albert Einstein \nSie werden nach einer intensiven Vorbereitungszeit eine Solozeit von 24 Stunden in der herrlichen Natur des Odenwalds verbringen â€“ alleine\, fastend und mit minimaler AusrÃ¼stung. Diese Solozeit ermÃ¶glicht vÃ¶llig neue Einsichten Ã¼ber sich selbst und unterstÃ¼tzt das Entstehen eines SelbstverstÃ¤ndnisses\, das frei von Ã¤uÃŸeren Erwartungshaltungen und ZwÃ¤ngen ist. In der Nachbereitungszeit werden die persÃ¶nlichen Erlebnisse mit UnterstÃ¼tzung der Gruppe und der Seminarleitung reflektiert und Wege zur Integration in die alltÃ¤gliche FÃ¼hrungspraxis erarbeitet. \nWeitere Details und Anmeldungen Ã¼ber das Odenwald-Institut fÃ¼r Personale PÃ¤dagogik &#8211; siehe Link unten
URL:https://awhileaway.de/event/walkaway-for-leaders/
CATEGORIES:WalkAway
END:VEVENT
BEGIN:VEVENT
DTSTART;TZID=Europe/Berlin:20210424T130000
DTEND;TZID=Europe/Berlin:20210424T190000
DTSTAMP:20260423T021702
CREATED:20210303T214155Z
LAST-MODIFIED:20210303T214155Z
UID:1056-1619269200-1619290800@awhileaway.de
SUMMARY:NaturSein 7
DESCRIPTION:NaturSein sind kurze Seminareinheiten in denen wir uns von unserer Seele und der Natur leiten lassen.
URL:https://awhileaway.de/event/natursein-7/
LOCATION:Online
CATEGORIES:NaturSein
END:VEVENT
BEGIN:VEVENT
DTSTART;TZID=Europe/Berlin:20210327T130000
DTEND;TZID=Europe/Berlin:20210327T190000
DTSTAMP:20260423T021702
CREATED:20210303T213735Z
LAST-MODIFIED:20210303T213735Z
UID:1042-1616850000-1616871600@awhileaway.de
SUMMARY:NaturSein 5
DESCRIPTION:NaturSein sind kurze Seminareinheiten in denen wir uns von unserer Seele und der Natur leiten lassen.
URL:https://awhileaway.de/event/natursein-5/
LOCATION:Online
CATEGORIES:NaturSein
END:VEVENT
BEGIN:VEVENT
DTSTART;TZID=Europe/Berlin:20210313T130000
DTEND;TZID=Europe/Berlin:20210313T190000
DTSTAMP:20260423T021702
CREATED:20210122T153527Z
LAST-MODIFIED:20210303T214516Z
UID:804-1615640400-1615662000@awhileaway.de
SUMMARY:NaturSein IV (a while away - kostenlos)
DESCRIPTION:Denkst Du dass die Natur Dir etwas zu sagen hat? Bist Du gerne allein drauÃŸen? MÃ¶chtest Du mehr Bewusstheit in dieser Zeit? \nDas wÃ¤re eine Gelegenheit\, Dir Deinen Wunsch zu erfÃ¼llen. Ich wÃ¼rde mich freuen. \nIm Teil IV gehen wir unserer Kraft und StÃ¤rke nach\, und kÃ¶nnen unseren Grenzen und Verletzungen begegnen.
URL:https://awhileaway.de/event/raus-gehen-iv-a-while-away/
LOCATION:Online
CATEGORIES:NaturSein
END:VEVENT
BEGIN:VEVENT
DTSTART;TZID=Europe/Berlin:20210227T130000
DTEND;TZID=Europe/Berlin:20210227T190000
DTSTAMP:20260423T021702
CREATED:20210122T152414Z
LAST-MODIFIED:20210211T181432Z
UID:802-1614430800-1614452400@awhileaway.de
SUMMARY:NaturSein III (a while away)
DESCRIPTION:Denkst Du dass die Natur Dir etwas zu sagen hat? Bist Du gerne allein draussen? MÃ¶chtest Du mehr Bewusstheit in dieser Zeit? \nDas wÃ¤re eine Gelegenheit\, Dir Deinen Wunsch zu erfÃ¼llen. Ich wÃ¼rde mich freuen. \nIm Teil III gehen wir mit allen Sinnen nach draussen und spÃ¼ren unserem inneren Kind nach.
URL:https://awhileaway.de/event/raus-gehen-iii-a-while-away/
LOCATION:Online
CATEGORIES:NaturSein
END:VEVENT
BEGIN:VEVENT
DTSTART;TZID=Europe/Berlin:20210213T130000
DTEND;TZID=Europe/Berlin:20210213T190000
DTSTAMP:20260423T021702
CREATED:20210122T150820Z
LAST-MODIFIED:20210211T181620Z
UID:794-1613221200-1613242800@awhileaway.de
SUMMARY:NaturSein II (a while away)
DESCRIPTION:Denkst Du dass die Natur Dir etwas zu sagen hat? Bist Du gerne allein draussen? MÃ¶chtest Du mehr Bewusstheit in dieser Zeit? \nDas wÃ¤re eine Gelegenheit\, Dir Deinen Wunsch zu erfÃ¼llen. Ich wÃ¼rde mich freuen. \nIm Teil II lassen wir uns von etwas in der Natur verzaubern. \n 
URL:https://awhileaway.de/event/raus-gehen-ii-a-while-away/
LOCATION:Online
CATEGORIES:NaturSein
END:VEVENT
BEGIN:VEVENT
DTSTART;TZID=Europe/Berlin:20210130T130000
DTEND;TZID=Europe/Berlin:20210130T190000
DTSTAMP:20260423T021702
CREATED:20210122T144901Z
LAST-MODIFIED:20210211T181734Z
UID:786-1612011600-1612033200@awhileaway.de
SUMMARY:NaturSein I (a while away)
DESCRIPTION:Denkst Du dass die Natur Dir etwas zu sagen hat? Bist Du gerne allein draussen? MÃ¶chtest Du mehr Bewusstheit in dieser Zeit? \nDas wÃ¤re eine Gelegenheit\, Dir Deinen Wunsch zu erfÃ¼llen. Ich wÃ¼rde mich freuen. \nIm Teil I gehen wir auf die Suche nach dem kÃ¶niglichen in der Natur.
URL:https://awhileaway.de/event/raus-gehen-i-a-while-away/
LOCATION:Online
CATEGORIES:NaturSein
END:VEVENT
END:VCALENDAR